BEGIN:VCALENDAR
VERSION:2.0
PRODID:-//wp-events-plugin.com//7.0.4//EN
TZID:America/New_York
X-WR-TIMEZONE:America/New_York
BEGIN:VEVENT
UID:75@sevashramsangha.org
DTSTART;TZID=America/New_York:20210526T190000
DTEND;TZID=America/New_York:20210526T203000
DTSTAMP:20210505T011216Z
URL:http://sevashramsangha.org/events/buddha-purnima-2021/
SUMMARY:Buddha Purnima-2021
DESCRIPTION:\n\n\n\n\n\n\n\n\n\n\nBuddha Purnima\nHoly Birthday of Lord Bud
 dha\nMay 26\, Wednesday 7pm - 8:30pm\nBhagwan Buddha puja\, Satyanarayan b
 rata\,\nKatha\, Bhajan\, Kirtan\, Arti and Prasad distribution.\nAll are w
 elcome.\nFor more information please call at 732-422-8880\n&nbsp\;\n\n\n\n
 \n\n\n\n\n\n\n
END:VEVENT
BEGIN:VTIMEZONE
TZID:America/New_York
X-LIC-LOCATION:America/New_York
BEGIN:DAYLIGHT
DTSTART:20210314T030000
TZOFFSETFROM:-0500
TZOFFSETTO:-0400
TZNAME:EDT
END:DAYLIGHT
END:VTIMEZONE
END:VCALENDAR