BEGIN:VCALENDAR
VERSION:2.0
PRODID:-//wp-events-plugin.com//7.0.4//EN
TZID:America/New_York
X-WR-TIMEZONE:America/New_York
BEGIN:VEVENT
UID:149@sevashramsangha.org
DTSTART;TZID=America/New_York:20240804T103000
DTEND;TZID=America/New_York:20240804T130000
DTSTAMP:20240701T011209Z
URL:http://sevashramsangha.org/events/ma-kali-puja-on-amavasya-2/
SUMMARY:Ma Kali Puja on Amavasya
DESCRIPTION:
END:VEVENT
BEGIN:VTIMEZONE
TZID:America/New_York
X-LIC-LOCATION:America/New_York
BEGIN:DAYLIGHT
DTSTART:20240310T030000
TZOFFSETFROM:-0500
TZOFFSETTO:-0400
TZNAME:EDT
END:DAYLIGHT
END:VTIMEZONE
END:VCALENDAR