BEGIN:VCALENDAR
VERSION:2.0
PRODID:-//wp-events-plugin.com//7.0.4//EN
TZID:America/New_York
X-WR-TIMEZONE:America/New_York
BEGIN:VEVENT
UID:140@sevashramsangha.org
DTSTART;TZID=America/New_York:20240414T100000
DTEND;TZID=America/New_York:20240414T130000
DTSTAMP:20240219T170054Z
URL:http://sevashramsangha.org/events/poila-baisakh-bengali-new-year/
SUMMARY:Poila Baisakh\, Bengali New Year
DESCRIPTION:
END:VEVENT
BEGIN:VTIMEZONE
TZID:America/New_York
X-LIC-LOCATION:America/New_York
BEGIN:DAYLIGHT
DTSTART:20240310T030000
TZOFFSETFROM:-0500
TZOFFSETTO:-0400
TZNAME:EDT
END:DAYLIGHT
END:VTIMEZONE
END:VCALENDAR