BEGIN:VCALENDAR
VERSION:2.0
PRODID:-//wp-events-plugin.com//7.0.4//EN
TZID:America/New_York
X-WR-TIMEZONE:America/New_York
BEGIN:VEVENT
UID:81@sevashramsangha.org
DTSTART;TZID=America/New_York:20210822T103000
DTEND;TZID=America/New_York:20210822T120000
DTSTAMP:20210815T164329Z
URL:http://sevashramsangha.org/events/raksha-bandhan/
SUMMARY:RAKSHA BANDHAN 2021
DESCRIPTION:\n\n\n\n\n\n\n\n\n\n\n&nbsp\;\n\nRAKSHA BANDHAN&nbsp\;\nSunday\
 , August 22\, 2021&nbsp\;\nFrom 10:30am-12:00pm&nbsp\;\nat Bharat Sevashra
 m Sangha\n3490 Route 27\nKendall Park\, NJ 08824\n&nbsp\;\n\n\n\n\n\n\n\n\
 n\n\n
END:VEVENT
BEGIN:VTIMEZONE
TZID:America/New_York
X-LIC-LOCATION:America/New_York
BEGIN:DAYLIGHT
DTSTART:20210314T030000
TZOFFSETFROM:-0500
TZOFFSETTO:-0400
TZNAME:EDT
END:DAYLIGHT
END:VTIMEZONE
END:VCALENDAR