BEGIN:VCALENDAR
VERSION:2.0
PRODID:-//wp-events-plugin.com//7.0.4//EN
TZID:America/New_York
X-WR-TIMEZONE:America/New_York
BEGIN:VEVENT
UID:108@sevashramsangha.org
DTSTART;TZID=America/New_York:20220529T183000
DTEND;TZID=America/New_York:20220529T203000
DTSTAMP:20220506T112616Z
URL:https://sevashramsangha.org/events/2022-phalharinikalipuja/
SUMMARY:Phal Harini Kali Puja
DESCRIPTION:\n\n&nbsp\;\nYou\, your family &amp\; friends are invited to jo
 in with us to celebrate:\nPhal Harini Kali Puja\nMay 29th\, Sunday\nTime: 
 6:30 pm – 8:30 pm\n&nbsp\;\n“We appreciate your kind support”\nFor m
 ore information please call ashram@732-422-8880 or email @ bssnj@hotmail.c
 om\n&nbsp\;\n\n
END:VEVENT
BEGIN:VTIMEZONE
TZID:America/New_York
X-LIC-LOCATION:America/New_York
BEGIN:DAYLIGHT
DTSTART:20220313T030000
TZOFFSETFROM:-0500
TZOFFSETTO:-0400
TZNAME:EDT
END:DAYLIGHT
END:VTIMEZONE
END:VCALENDAR