BEGIN:VCALENDAR
VERSION:2.0
PRODID:-//wp-events-plugin.com//7.0.4//EN
TZID:America/New_York
X-WR-TIMEZONE:America/New_York
BEGIN:VEVENT
UID:84@sevashramsangha.org
DTSTART;TZID=America/New_York:20210905T103000
DTEND;TZID=America/New_York:20210905T133000
DTSTAMP:20210827T232925Z
URL:https://sevashramsangha.org/events/24thcelebration/
SUMMARY:24th Anniversary Celebration
DESCRIPTION:\n\n\n\n\n\n\n\n\n\n\n24th Anniversary Celebration\nSunday\, Se
 ptember 5\, 2021 from 10:30am – 1:30pm&nbsp\; -&nbsp\;\nYou are invited 
 with your family and friends\nto participate in our 24 anniversary celebra
 tion.&nbsp\;&nbsp\;\nProgram:&nbsp\; Maha-Shiva – Abhisekam\, bhajan and
  kirtan\,\nVedic Viswa Shanti Yajya (Havan)\,\nAnnakut Maha Bhog &amp\; Ar
 ati follow by Maha Prashad.&nbsp\;&nbsp\;&nbsp\;\nYou are most welcome to 
 prepared small amount of vegetables or sweets for Annakut Bhog.&nbsp\;&nbs
 p\;\nAll items should be by 12:00pm\n&nbsp\;&nbsp\;We welcome each and eve
 ryone and&nbsp\;look forward for your participation&nbsp\;\n&nbsp\;\nFor m
 ore information please call Ashram @ 732-422-8880&nbsp\;\n&nbsp\;&nbsp\;\n
 Sincerely\,&nbsp\;\nSwami Mukundananda&nbsp\;&nbsp\;\n\n\n\n\n\n\n\n\n\n\n
END:VEVENT
BEGIN:VTIMEZONE
TZID:America/New_York
X-LIC-LOCATION:America/New_York
BEGIN:DAYLIGHT
DTSTART:20210314T030000
TZOFFSETFROM:-0500
TZOFFSETTO:-0400
TZNAME:EDT
END:DAYLIGHT
END:VTIMEZONE
END:VCALENDAR