BEGIN:VCALENDAR
VERSION:2.0
PRODID:-//wp-events-plugin.com//7.0.4//EN
TZID:America/New_York
X-WR-TIMEZONE:America/New_York
BEGIN:VEVENT
UID:127@sevashramsangha.org
DTSTART;TZID=America/New_York;VALUE=DATE:20230901
DTEND;TZID=America/New_York;VALUE=DATE:20230904
DTSTAMP:20230611T233117Z
URL:https://sevashramsangha.org/events/26th-foundation-celebration/
SUMMARY:26th foundation celebration
DESCRIPTION:26th foundation celebration of Bharat Sevashram Sangha\, NJ cha
 pter.\n\nFri \, Sept 1st - 6:30PM to 8:30PM\n\nSat\, Sept 2nd - 10AM to 1P
 M &amp\; 6:30PM to 8:30PM\n\nSun\, Sept 3rd - 10AM to 1PMMore details will
  be published soon.
END:VEVENT
BEGIN:VTIMEZONE
TZID:America/New_York
X-LIC-LOCATION:America/New_York
BEGIN:DAYLIGHT
DTSTART:20230312T030000
TZOFFSETFROM:-0500
TZOFFSETTO:-0400
TZNAME:EDT
END:DAYLIGHT
END:VTIMEZONE
END:VCALENDAR