BEGIN:VCALENDAR
VERSION:2.0
PRODID:-//wp-events-plugin.com//7.0.4//EN
TZID:America/New_York
X-WR-TIMEZONE:America/New_York
BEGIN:VEVENT
UID:74@sevashramsangha.org
DTSTART;TZID=America/New_York:20210514T190000
DTEND;TZID=America/New_York:20210514T203000
DTSTAMP:20220410T171603Z
URL:https://sevashramsangha.org/events/akshaya-tritiya-tithi-2021/
SUMMARY:Akshaya Tritiya Tithi - 2021
DESCRIPTION:\n\n\n\n\n\n\n\n\n\n\nAkshaya Tritiya Tithi\n&nbsp\;May 14 Frid
 ay\, 7pm - 8:30pm.\nPuja \, Havan.\, Arti\, Bhajan\, Kirtan and Prasad Dis
 tribution\nAll are welcome\nFor more information please call at 732-422-88
 80\n\n\n\n\n\n\n\n\n\n\n
END:VEVENT
BEGIN:VTIMEZONE
TZID:America/New_York
X-LIC-LOCATION:America/New_York
BEGIN:DAYLIGHT
DTSTART:20210314T030000
TZOFFSETFROM:-0500
TZOFFSETTO:-0400
TZNAME:EDT
END:DAYLIGHT
END:VTIMEZONE
END:VCALENDAR