BEGIN:VCALENDAR
VERSION:2.0
PRODID:-//wp-events-plugin.com//7.0.4//EN
TZID:America/New_York
X-WR-TIMEZONE:America/New_York
BEGIN:VEVENT
UID:129@sevashramsangha.org
DTSTART;TZID=America/New_York:20231112T180000
DTEND;TZID=America/New_York:20231112T210000
DTSTAMP:20231028T011642Z
URL:https://sevashramsangha.org/events/deepavali-and-kali-puja/
SUMMARY:Deepavali and Kali Puja
DESCRIPTION:Deepavali and Kali Puja
END:VEVENT
BEGIN:VTIMEZONE
TZID:America/New_York
X-LIC-LOCATION:America/New_York
BEGIN:STANDARD
DTSTART:20231105T010000
TZOFFSETFROM:-0400
TZOFFSETTO:-0500
TZNAME:EST
END:STANDARD
END:VTIMEZONE
END:VCALENDAR