BEGIN:VCALENDAR
VERSION:2.0
PRODID:-//wp-events-plugin.com//7.0.4//EN
TZID:America/New_York
X-WR-TIMEZONE:America/New_York
BEGIN:VEVENT
UID:161@sevashramsangha.org
DTSTART;TZID=America/New_York:20250316T090000
DTEND;TZID=America/New_York:20250316T130000
DTSTAMP:20250312T031120Z
URL:https://sevashramsangha.org/events/dol-purnima-and-holi/
SUMMARY:Dol Purnima and Holi
DESCRIPTION:Dol Purnima and Holi\n\nTime : 9AM to 1PM
END:VEVENT
BEGIN:VTIMEZONE
TZID:America/New_York
X-LIC-LOCATION:America/New_York
BEGIN:DAYLIGHT
DTSTART:20250309T030000
TZOFFSETFROM:-0500
TZOFFSETTO:-0400
TZNAME:EDT
END:DAYLIGHT
END:VTIMEZONE
END:VCALENDAR