BEGIN:VCALENDAR
VERSION:2.0
PRODID:-//wp-events-plugin.com//7.0.4//EN
TZID:America/New_York
X-WR-TIMEZONE:America/New_York
BEGIN:VEVENT
UID:105@sevashramsangha.org
DTSTART;TZID=America/New_York;VALUE=DATE:20220319
DTEND;TZID=America/New_York;VALUE=DATE:20220320
DTSTAMP:20220506T112532Z
URL:https://sevashramsangha.org/events/dol-purnima-celebration-of-holi-fes
 tival-2022/
SUMMARY:Dol Purnima - Celebration of Holi Festival
DESCRIPTION:Dol Purnima -Holi\n\nBharat Sevashram Sangha&nbsp\; - New Jerse
 y Branch\nCelebrating Holi Utsav on&nbsp\;19th March&nbsp\;2022\,&nbsp\;Sa
 turday 11am to 1 pm.&nbsp\;\nCelebrations include Prayers\, Bhajans\, kirt
 ans and playing with colors followed by Maha Prashad.\n&nbsp\;\nWe cordial
 ly invite you and your family to join us and\ncelebrate this festival with
  divinity\, serenity and seek the blessing of Guru Maharaj.\n&nbsp\;\nWe g
 reatly appreciate any sponsorships.\nPlease contact here.\nSincerely\,\nSw
 ami Mukundananda\n(331)-302-2194\n&nbsp\;
END:VEVENT
BEGIN:VTIMEZONE
TZID:America/New_York
X-LIC-LOCATION:America/New_York
BEGIN:DAYLIGHT
DTSTART:20220313T030000
TZOFFSETFROM:-0500
TZOFFSETTO:-0400
TZNAME:EDT
END:DAYLIGHT
END:VTIMEZONE
END:VCALENDAR