BEGIN:VCALENDAR
VERSION:2.0
PRODID:-//wp-events-plugin.com//7.0.4//EN
TZID:America/New_York
X-WR-TIMEZONE:America/New_York
BEGIN:VEVENT
UID:122@sevashramsangha.org
DTSTART;TZID=America/New_York:20230312T100000
DTEND;TZID=America/New_York:20230312T130000
DTSTAMP:20230223T005016Z
URL:https://sevashramsangha.org/events/dole-purnima-holi-festival/
SUMMARY:Dole Purnima   “HOLI FESTIVAL”
DESCRIPTION:Celebrate&nbsp\;DOLE PURNIMA&nbsp\;\nBharat Sevashram Sangha&nb
 sp\;\n3490 Route 27&nbsp\;\nKendall Park\, NJ 08824&nbsp\;
END:VEVENT
BEGIN:VTIMEZONE
TZID:America/New_York
X-LIC-LOCATION:America/New_York
BEGIN:DAYLIGHT
DTSTART:20230312T030000
TZOFFSETFROM:-0500
TZOFFSETTO:-0400
TZNAME:EDT
END:DAYLIGHT
END:VTIMEZONE
END:VCALENDAR