BEGIN:VCALENDAR
VERSION:2.0
PRODID:-//wp-events-plugin.com//7.0.4//EN
TZID:America/New_York
X-WR-TIMEZONE:America/New_York
BEGIN:VEVENT
UID:60@sevashramsangha.org
DTSTART;TZID=America/New_York:20200822T183000
DTEND;TZID=America/New_York:20200822T210000
DTSTAMP:20200716T020135Z
URL:https://sevashramsangha.org/events/ganesh-chaturthi/
SUMMARY:Ganesh Chaturthi
DESCRIPTION:\n\n\n\nGanesh Chaturthi\nAugust 22\, Saturday\n&nbsp\;&nbsp\;&
 nbsp\;Special Ganesh puja starts at 6.30 p.m.\nNote: When you coming to th
 e temple\, please put a mask\, covering your face. Also please maintain so
 cial distance.\nWe may not be able to serve you cooked prasadam\, instead\
 , we may give you fruits\, sweet etc.\nFor sponsor any of these puja\, ple
 ase call Ashram at 732 422 8880.\nSwami Amarnathananda\n\n\n\n\n
END:VEVENT
BEGIN:VTIMEZONE
TZID:America/New_York
X-LIC-LOCATION:America/New_York
BEGIN:DAYLIGHT
DTSTART:20200308T030000
TZOFFSETFROM:-0500
TZOFFSETTO:-0400
TZNAME:EDT
END:DAYLIGHT
END:VTIMEZONE
END:VCALENDAR