BEGIN:VCALENDAR
VERSION:2.0
PRODID:-//wp-events-plugin.com//7.0.4//EN
TZID:America/New_York
X-WR-TIMEZONE:America/New_York
BEGIN:VEVENT
UID:119@sevashramsangha.org
DTSTART;TZID=America/New_York:20230205T100000
DTEND;TZID=America/New_York:20230205T130000
DTSTAMP:20230203T135904Z
URL:https://sevashramsangha.org/events/gurujibirthday/
SUMMARY:Sri Sri Maghi Purnima 2023
DESCRIPTION:\n\nBharat Sevashram Sangha\, New jersey\nwill be celebrating&n
 bsp\;Sri Sri Maghi – Purnima festival&nbsp\;\n\n\nHoly Birthday of Achar
 ya Swami Pranavanandaji Maharaj&nbsp\;\nFounder of Bharat Sevashram Sangha
 &nbsp\;\nDate:&nbsp\;&nbsp\;&nbsp\;&nbsp\;&nbsp\;&nbsp\;&nbsp\;&nbsp\;&nbs
 p\;&nbsp\;&nbsp\;Sunday\, February 5\, 2023&nbsp\;\n\nTime:&nbsp\;&nbsp\;&
 nbsp\;&nbsp\;&nbsp\;&nbsp\;&nbsp\;&nbsp\;&nbsp\;&nbsp\;10:00am -1:00pm&nbs
 p\;\n\nPlace:&nbsp\;&nbsp\;&nbsp\;&nbsp\;&nbsp\;&nbsp\;&nbsp\;&nbsp\;&nbsp
 \;&nbsp\;&nbsp\;Bharat Sevashram\, New Jersey&nbsp\;\n\n&nbsp\;Program:&nb
 sp\;&nbsp\;Prayers\, Kirtans\, Discourse on the life of Swami Pranavananda
 ji Maharaj\, Annakut Bhog\, Arati and Maha Prasad.&nbsp\;\n\n&nbsp\;\n\n\n
 For&nbsp\;PUJA&nbsp\;sponsorship\, please contact Swami Amarnathananda @ (
 732) 422 8880 or (347) 735 2984 (Cell)\n\n
END:VEVENT
BEGIN:VTIMEZONE
TZID:America/New_York
X-LIC-LOCATION:America/New_York
BEGIN:STANDARD
DTSTART:20221106T010000
TZOFFSETFROM:-0400
TZOFFSETTO:-0500
TZNAME:EST
END:STANDARD
END:VTIMEZONE
END:VCALENDAR