BEGIN:VCALENDAR
VERSION:2.0
PRODID:-//wp-events-plugin.com//7.0.4//EN
TZID:America/New_York
X-WR-TIMEZONE:America/New_York
BEGIN:VEVENT
UID:170@sevashramsangha.org
DTSTART;TZID=America/New_York:20260101T100000
DTEND;TZID=America/New_York:20260101T130000
DTSTAMP:20251207T161155Z
URL:https://sevashramsangha.org/events/happy-new-year-and-kali-puja/
SUMMARY:Happy New Year and Kali Puja
DESCRIPTION:Kali Puja on 1st January&nbsp\;
END:VEVENT
BEGIN:VTIMEZONE
TZID:America/New_York
X-LIC-LOCATION:America/New_York
BEGIN:STANDARD
DTSTART:20251102T010000
TZOFFSETFROM:-0400
TZOFFSETTO:-0500
TZNAME:EST
END:STANDARD
END:VTIMEZONE
END:VCALENDAR