BEGIN:VCALENDAR
VERSION:2.0
PRODID:-//wp-events-plugin.com//7.0.4//EN
TZID:America/New_York
X-WR-TIMEZONE:America/New_York
BEGIN:VEVENT
UID:71@sevashramsangha.org
DTSTART;TZID=America/New_York:20210328T100000
DTEND;TZID=America/New_York:20210328T130000
DTSTAMP:20210319T000222Z
URL:https://sevashramsangha.org/events/holi/
SUMMARY:Dole Purnima (Holi)
DESCRIPTION:DOLE PURNIMA\nHoli celebration\nTime: 10:00am to 1:00pm\nSunday
 \, March 28\, 2021\nProgram: Satyanarayan puja\, holi songs\, Arati\, push
 panjali and maha prashad.\nIf anyone desire to play holi\, it should be do
 ne outside in a safe manner. &nbsp\;\nCOVID is still here\, so we need to 
 follow the State of New Jersey guidelines. &nbsp\;\nFor more information p
 lease call: 732-422-8880 or Mohini @ 917-847-5719
END:VEVENT
BEGIN:VTIMEZONE
TZID:America/New_York
X-LIC-LOCATION:America/New_York
BEGIN:DAYLIGHT
DTSTART:20210314T030000
TZOFFSETFROM:-0500
TZOFFSETTO:-0400
TZNAME:EDT
END:DAYLIGHT
END:VTIMEZONE
END:VCALENDAR