BEGIN:VCALENDAR
VERSION:2.0
PRODID:-//wp-events-plugin.com//7.0.4//EN
TZID:America/New_York
X-WR-TIMEZONE:America/New_York
BEGIN:VEVENT
UID:169@sevashramsangha.org
DTSTART;TZID=America/New_York:20251006T180000
DTEND;TZID=America/New_York:20251006T200000
DTSTAMP:20251004T203014Z
URL:https://sevashramsangha.org/events/kajagari-lakshmi-puja-2/
SUMMARY:Kajagari Lakshmi Puja
DESCRIPTION:Kajagari Lakshmi Puja\n\n6PM to 8 PM
END:VEVENT
BEGIN:VTIMEZONE
TZID:America/New_York
X-LIC-LOCATION:America/New_York
BEGIN:DAYLIGHT
DTSTART:20250309T030000
TZOFFSETFROM:-0500
TZOFFSETTO:-0400
TZNAME:EDT
END:DAYLIGHT
END:VTIMEZONE
END:VCALENDAR