BEGIN:VCALENDAR
VERSION:2.0
PRODID:-//wp-events-plugin.com//7.0.4//EN
TZID:America/New_York
X-WR-TIMEZONE:America/New_York
BEGIN:VEVENT
UID:112@sevashramsangha.org
DTSTART;TZID=America/New_York:20221024T180000
DTEND;TZID=America/New_York:20221024T203000
DTSTAMP:20221011T015118Z
URL:https://sevashramsangha.org/events/kalipuja2022/
SUMMARY:Kali Puja 2022
DESCRIPTION:\nKali Puja Schedule\nDate: October 24th\, Monday.&nbsp\;\nTime
 : 6:00PM – 8:30PM\nArti: 8:00PM\nPushpanjali: 8:15PM\nBhog: 8:30PM\nFor 
 Kali Puja Registration\, please click on the following link\nhttp://sevash
 ramsangha.org/kali-puja-2022-1/\nand for Private Puja offering Registratio
 n&nbsp\;please&nbsp\;click on\nhttp://sevashramsangha.org/kali-puja-2022-2
 /\nParking Information\nPlease park only at Ashram parking lot.\nNote:\nPl
 ease&nbsp\;DO NOT&nbsp\;park your car at&nbsp\;Wells Fargo Bank&nbsp\;park
 ing lot and also at&nbsp\;Barret County Club Apartment&nbsp\;complex parki
 ng lot.\nFor all information\, please call Swami Amarnathananda at – 732
  422 8880/ 347 735 2984 (cell)\n&nbsp\;\nSwami Amarnathananda\n\n
END:VEVENT
BEGIN:VTIMEZONE
TZID:America/New_York
X-LIC-LOCATION:America/New_York
BEGIN:DAYLIGHT
DTSTART:20220313T030000
TZOFFSETFROM:-0500
TZOFFSETTO:-0400
TZNAME:EDT
END:DAYLIGHT
END:VTIMEZONE
END:VCALENDAR