BEGIN:VCALENDAR
VERSION:2.0
PRODID:-//wp-events-plugin.com//7.0.4//EN
TZID:America/New_York
X-WR-TIMEZONE:America/New_York
BEGIN:VEVENT
UID:110@sevashramsangha.org
DTSTART;TZID=America/New_York:20220819T183000
DTEND;TZID=America/New_York:20220819T210000
DTSTAMP:20220810T110041Z
URL:https://sevashramsangha.org/events/krishnajanmastami/
SUMMARY:Shri Krishna Janmastami 2022
DESCRIPTION:\n\n&nbsp\;\nSHRI KRISHNA JANMASTAMI\n(The holy birthday of Lor
 d Shri Krishna)\n&nbsp\;\nFriday\, August 19\, 2022\n6:30PM – 9:00PM\nBh
 arat Sevashram Sangha\n3490 Route 27\nKendall Park\, NJ 0882\n&nbsp\;\n&nb
 sp\;\nProgram includes:&nbsp\; Shri Krishna Puja\, Anjali Pradan\, devotio
 nal songs and maha prasad distribution.\n&nbsp\;\nIf anyone would like to 
 sponsor puja and Maha Prashad\, please call Swamiji at: 732-422-8880.\n&nb
 sp\;\nWE EXTEND A HEARTY WELCOME TO EVERYONE!!!\n&nbsp\;\nSincerely\,\nSwa
 mi Amarnathananda\n&nbsp\;\n&nbsp\;\n**********************************\n&
 nbsp\;\n“We appreciate your kind support”\nFor more information please
  call ashram@732-422-8880 or email @ bssnj@hotmail.com\n&nbsp\;\n\n
END:VEVENT
BEGIN:VTIMEZONE
TZID:America/New_York
X-LIC-LOCATION:America/New_York
BEGIN:DAYLIGHT
DTSTART:20220313T030000
TZOFFSETFROM:-0500
TZOFFSETTO:-0400
TZNAME:EDT
END:DAYLIGHT
END:VTIMEZONE
END:VCALENDAR