BEGIN:VCALENDAR
VERSION:2.0
PRODID:-//wp-events-plugin.com//7.0.4//EN
TZID:America/New_York
X-WR-TIMEZONE:America/New_York
BEGIN:VEVENT
UID:155@sevashramsangha.org
DTSTART;TZID=America/New_York:20250101T160000
DTEND;TZID=America/New_York:20250101T190000
DTSTAMP:20241226T004314Z
URL:https://sevashramsangha.org/events/ma-kali-puja-2024/
SUMMARY:MA KALI PUJA
DESCRIPTION:KALI PUJA&nbsp\;2024\n\nDate: Wednesday\, January 1st\, 2025\nT
 ime: 4.00&nbsp\;PM –&nbsp\;7.00&nbsp\;PM\n\nProgram: MA KALI PUJA\, ARAT
 I\, PUSPANJALI\, Bhog &amp\; Prayer for everybody.
END:VEVENT
BEGIN:VTIMEZONE
TZID:America/New_York
X-LIC-LOCATION:America/New_York
BEGIN:STANDARD
DTSTART:20241103T010000
TZOFFSETFROM:-0400
TZOFFSETTO:-0500
TZNAME:EST
END:STANDARD
END:VTIMEZONE
END:VCALENDAR