BEGIN:VCALENDAR
VERSION:2.0
PRODID:-//wp-events-plugin.com//7.0.4//EN
TZID:America/New_York
X-WR-TIMEZONE:America/New_York
BEGIN:VEVENT
UID:103@sevashramsangha.org
DTSTART;TZID=America/New_York:20220216T183000
DTEND;TZID=America/New_York:20220216T200000
DTSTAMP:20220209T024450Z
URL:https://sevashramsangha.org/events/maghi-purnima/
SUMMARY:Maghi Purnima 2022
DESCRIPTION:\n\n&nbsp\;\nOn February 16th at 6:30 pm - 8pm\,\nthe Bharat Se
 vashram Sangha - New Jersey Branch\nwill be&nbsp\;celebrating the auspicio
 us event of Maghi Purnima\,\nthe birthday of\nAcharya Swami Pranavanandaji
  Maharaj\,\nthe founder of\nBharat Sevashram Sangha.\nThe program will inc
 lude bhajans\, kirtans\, discourse\non Swamiji's life and Annakut Maha Pra
 sad.&nbsp\;&nbsp\;\nPlease bring your vegetarian cooked food for Annakut.&
 nbsp\;\nFor more details please call the Ashram at 331-302-2194 or 732-422
 -8880\n&nbsp\;\nSincerely\,&nbsp\;\nSwami Mukundananda\nBharat Sevashram S
 angha - NJ Branch\n&nbsp\;
END:VEVENT
BEGIN:VTIMEZONE
TZID:America/New_York
X-LIC-LOCATION:America/New_York
BEGIN:STANDARD
DTSTART:20211107T010000
TZOFFSETFROM:-0400
TZOFFSETTO:-0500
TZNAME:EST
END:STANDARD
END:VTIMEZONE
END:VCALENDAR