BEGIN:VCALENDAR
VERSION:2.0
PRODID:-//wp-events-plugin.com//7.0.4//EN
TZID:America/New_York
X-WR-TIMEZONE:America/New_York
BEGIN:VEVENT
UID:98@sevashramsangha.org
DTSTART;TZID=America/New_York:20211014T090000
DTEND;TZID=America/New_York:20211014T120000
DTSTAMP:20211006T011134Z
URL:https://sevashramsangha.org/events/maha-navami-mahapuja-morning/
SUMMARY:Maha-Navami-Mahapuja-Morning
DESCRIPTION:Maha-Navami-Mahapuja\nDate: October 14th\, Thursday\nMorning Pu
 ja – 9AM– 12PM\nMeet Dignitaries&nbsp\; Governor/Lt. Governor)\, Senat
 or\, Assembly Man.\nEvening Puja – 6PM – 8PM\n&nbsp\;\nPuspanjali Prad
 an\nEvery day after morning and evening puja and arati.\nMahaprasad distri
 bution\nPrasadam will be served in a sealed box. Eating inside the temple 
 complex is strictly prohibited (No exception).&nbsp\;\nRegistration\nPre-r
 egistration online as stipulated.
END:VEVENT
BEGIN:VTIMEZONE
TZID:America/New_York
X-LIC-LOCATION:America/New_York
BEGIN:DAYLIGHT
DTSTART:20210314T030000
TZOFFSETFROM:-0500
TZOFFSETTO:-0400
TZNAME:EDT
END:DAYLIGHT
END:VTIMEZONE
END:VCALENDAR