BEGIN:VCALENDAR
VERSION:2.0
PRODID:-//wp-events-plugin.com//7.0.4//EN
TZID:America/New_York
X-WR-TIMEZONE:America/New_York
BEGIN:VEVENT
UID:94@sevashramsangha.org
DTSTART;TZID=America/New_York:20211012T180000
DTEND;TZID=America/New_York:20211012T200000
DTSTAMP:20211006T010325Z
URL:https://sevashramsangha.org/events/maha-saptami-mahapujua-evening/
SUMMARY:Maha-Saptami-Mahapujua Evening
DESCRIPTION:Maha-Saptami-Mahapuja\nDate: October 12th\, Tuesday.\nMorning P
 uja &amp\; Arti – 9AM – 12PM\nEvening Puja\, Arti – 6PM – 8PM\n&nb
 sp\;\nPuspanjali Pradan\nEvery day after morning and evening puja and arat
 i.\nMahaprasad distribution\nPrasadam will be served in a sealed box. Eati
 ng inside the temple complex is strictly prohibited (No exception).&nbsp\;
 \nRegistration\nPre-registration online as stipulated.
END:VEVENT
BEGIN:VTIMEZONE
TZID:America/New_York
X-LIC-LOCATION:America/New_York
BEGIN:DAYLIGHT
DTSTART:20210314T030000
TZOFFSETFROM:-0500
TZOFFSETTO:-0400
TZNAME:EDT
END:DAYLIGHT
END:VTIMEZONE
END:VCALENDAR