BEGIN:VCALENDAR
VERSION:2.0
PRODID:-//wp-events-plugin.com//7.0.4//EN
TZID:America/New_York
X-WR-TIMEZONE:America/New_York
BEGIN:VEVENT
UID:89@sevashramsangha.org
DTSTART;TZID=America/New_York:20211009T050000
DTEND;TZID=America/New_York:20211009T070000
DTSTAMP:20211006T004124Z
URL:https://sevashramsangha.org/events/matribandanchandipath/
SUMMARY:MATRI BANDANA AND CHANDI PATH
DESCRIPTION:MATRI BANDANA AND CHANDI PATH&nbsp\;\n&nbsp\;\nSaturday\, Octob
 er 9\, 2021&nbsp\;\nBy: Shri Partha Sarathi Mukhopadhyay&nbsp\;\nTime:&nbs
 p\;&nbsp\;5:00am -7:00am&nbsp\;
END:VEVENT
BEGIN:VTIMEZONE
TZID:America/New_York
X-LIC-LOCATION:America/New_York
BEGIN:DAYLIGHT
DTSTART:20210314T030000
TZOFFSETFROM:-0500
TZOFFSETTO:-0400
TZNAME:EDT
END:DAYLIGHT
END:VTIMEZONE
END:VCALENDAR