BEGIN:VCALENDAR
VERSION:2.0
PRODID:-//wp-events-plugin.com//7.0.4//EN
TZID:America/New_York
X-WR-TIMEZONE:America/New_York
BEGIN:VEVENT
UID:76@sevashramsangha.org
DTSTART;TZID=America/New_York:20210609T190000
DTEND;TZID=America/New_York:20210609T203000
DTSTAMP:20210603T004109Z
URL:https://sevashramsangha.org/events/phal-harini-kali-puja/
SUMMARY:Phal-Harini-Kali-Puja
DESCRIPTION:\n\n\n\n\n\n\n\n\n\n\nUpcoming Event\nPHAL-HARINI-KALI-PUJA\nWe
 dnesday\, June 9\, 2021\nTime: &nbsp\;7:00pm -8:30pm\nProgram: Puja\, Pray
 ers\, Arti\, Puspanjali\nand Prasad Distribution&nbsp\;&nbsp\;\n&nbsp\;\nA
 ll are welcome!!\nFor more information please call Ashram @ 732-422-8880\n
 &nbsp\;\n\n\n\n\n\n\n\n\n\n\n
END:VEVENT
BEGIN:VTIMEZONE
TZID:America/New_York
X-LIC-LOCATION:America/New_York
BEGIN:DAYLIGHT
DTSTART:20210314T030000
TZOFFSETFROM:-0500
TZOFFSETTO:-0400
TZNAME:EDT
END:DAYLIGHT
END:VTIMEZONE
END:VCALENDAR