BEGIN:VCALENDAR
VERSION:2.0
PRODID:-//wp-events-plugin.com//7.0.4//EN
TZID:America/New_York
X-WR-TIMEZONE:America/New_York
BEGIN:VEVENT
UID:132@sevashramsangha.org
DTSTART;TZID=America/New_York:20240114T100000
DTEND;TZID=America/New_York:20240114T130000
DTSTAMP:20240102T023829Z
URL:https://sevashramsangha.org/events/poush-sankranthi/
SUMMARY:Poush Sankranthi
DESCRIPTION:Sunday\, January 14th- Poush Sankranthi\n10 am to 1 pm
END:VEVENT
BEGIN:VTIMEZONE
TZID:America/New_York
X-LIC-LOCATION:America/New_York
BEGIN:STANDARD
DTSTART:20231105T010000
TZOFFSETFROM:-0400
TZOFFSETTO:-0500
TZNAME:EST
END:STANDARD
END:VTIMEZONE
END:VCALENDAR