BEGIN:VCALENDAR
VERSION:2.0
PRODID:-//wp-events-plugin.com//7.0.4//EN
TZID:America/New_York
X-WR-TIMEZONE:America/New_York
BEGIN:VEVENT
UID:86@sevashramsangha.org
DTSTART;TZID=America/New_York:20211003T150000
DTEND;TZID=America/New_York:20211003T170000
DTSTAMP:20220506T112704Z
URL:https://sevashramsangha.org/events/rabindrasangeet/
SUMMARY:An Evening of Rabindra Sangeet
DESCRIPTION:An Evening of Rabindra Sangeet by Shama Rahman\n(along with Dan
 ce Recital of Shreesti Dance Academy)\nSunday October 3rd\, 2021\n3 - 5pm 
 EST
END:VEVENT
BEGIN:VTIMEZONE
TZID:America/New_York
X-LIC-LOCATION:America/New_York
BEGIN:DAYLIGHT
DTSTART:20210314T030000
TZOFFSETFROM:-0500
TZOFFSETTO:-0400
TZNAME:EDT
END:DAYLIGHT
END:VTIMEZONE
END:VCALENDAR