BEGIN:VCALENDAR
VERSION:2.0
PRODID:-//wp-events-plugin.com//7.0.4//EN
TZID:America/New_York
X-WR-TIMEZONE:America/New_York
BEGIN:VEVENT
UID:158@sevashramsangha.org
DTSTART;TZID=America/New_York:20250128T183000
DTEND;TZID=America/New_York:20250128T203000
DTSTAMP:20250116T004252Z
URL:https://sevashramsangha.org/events/ratanti-kali-puja-2/
SUMMARY:Ratanti Kali Puja
DESCRIPTION:Ratanti Kali Puja\nDate: Tuesday\, January 28\, 2025\nTime : 6:
 30 PM – 8:30 PM\n\nProgram: Puja\, Arati \, Prayer &  Puspanjali
END:VEVENT
BEGIN:VTIMEZONE
TZID:America/New_York
X-LIC-LOCATION:America/New_York
BEGIN:STANDARD
DTSTART:20241103T010000
TZOFFSETFROM:-0400
TZOFFSETTO:-0500
TZNAME:EST
END:STANDARD
END:VTIMEZONE
END:VCALENDAR