BEGIN:VCALENDAR
VERSION:2.0
PRODID:-//wp-events-plugin.com//7.0.4//EN
TZID:America/New_York
X-WR-TIMEZONE:America/New_York
BEGIN:VEVENT
UID:135@sevashramsangha.org
DTSTART;TZID=America/New_York:20240214T100000
DTEND;TZID=America/New_York:20240214T130000
DTSTAMP:20240128T203039Z
URL:https://sevashramsangha.org/events/saraswati-puja-3/
SUMMARY:Saraswati Puja
DESCRIPTION:Wednesday\, February 14th- Saraswati Puja\n10 am-12:30 pm 6 pm-
 8:30 pm
END:VEVENT
BEGIN:VTIMEZONE
TZID:America/New_York
X-LIC-LOCATION:America/New_York
BEGIN:STANDARD
DTSTART:20231105T010000
TZOFFSETFROM:-0400
TZOFFSETTO:-0500
TZNAME:EST
END:STANDARD
END:VTIMEZONE
END:VCALENDAR