BEGIN:VCALENDAR
VERSION:2.0
PRODID:-//wp-events-plugin.com//7.0.4//EN
TZID:America/New_York
X-WR-TIMEZONE:America/New_York
BEGIN:VEVENT
UID:92@sevashramsangha.org
DTSTART;TZID=America/New_York:20211011T180000
DTEND;TZID=America/New_York:20211011T200000
DTSTAMP:20211006T005922Z
URL:https://sevashramsangha.org/events/sasthi-puja/
SUMMARY:Sasthi puja
DESCRIPTION:Sasthi puja\nSri Sri Durga Devir Bodhan\, Sasthi-Vihita puja\, 
 Amantran and Adhivash.\nDate: October 11th\, Monday.&nbsp\; Time: 6PM – 
 8PM\nPuspanjali Pradan\nEvery day after morning and evening puja and arati
 .\nMahaprasad distribution\nPrasadam will be served in a sealed box. Eatin
 g inside the temple complex is strictly prohibited (No exception).&nbsp\;\
 nRegistration\nPre-registration online as stipulated.
END:VEVENT
BEGIN:VTIMEZONE
TZID:America/New_York
X-LIC-LOCATION:America/New_York
BEGIN:DAYLIGHT
DTSTART:20210314T030000
TZOFFSETFROM:-0500
TZOFFSETTO:-0400
TZNAME:EDT
END:DAYLIGHT
END:VTIMEZONE
END:VCALENDAR