BEGIN:VCALENDAR
VERSION:2.0
PRODID:-//wp-events-plugin.com//7.0.4//EN
TZID:America/New_York
X-WR-TIMEZONE:America/New_York
BEGIN:VEVENT
UID:114@sevashramsangha.org
DTSTART;TZID=America/New_York:20221108T183000
DTEND;TZID=America/New_York:20221108T200000
DTSTAMP:20221031T005213Z
URL:https://sevashramsangha.org/events/satyanarayan-katha-2022/
SUMMARY:SRI SRI SATYANARAYAN KATHA
DESCRIPTION:\nSRI SRI SATYANARAYAN KATHA\nKARTIKI PURNIMA\, RASH PURNIMA\nD
 ate: Tuesday\, 8th&nbsp\;November\, 2022\nTime:6:30 PM – 8.00 PM\nParkin
 g Information\nPlease park only at Ashram parking lot.\nNote:\nPlease&nbsp
 \;DO NOT&nbsp\;park your car at&nbsp\;Wells Fargo Bank&nbsp\;parking lot a
 nd also at&nbsp\;Barret County Club Apartment&nbsp\;complex parking lot.\n
 For all information\, please call Swami Amarnathananda at – 732 422 8880
 / 347 735 2984 (cell)\n&nbsp\;\nSwami Amarnathananda\n\n
END:VEVENT
BEGIN:VTIMEZONE
TZID:America/New_York
X-LIC-LOCATION:America/New_York
BEGIN:STANDARD
DTSTART:20221106T010000
TZOFFSETFROM:-0400
TZOFFSETTO:-0500
TZNAME:EST
END:STANDARD
END:VTIMEZONE
END:VCALENDAR