BEGIN:VCALENDAR
VERSION:2.0
PRODID:-//wp-events-plugin.com//7.0.4//EN
TZID:America/New_York
X-WR-TIMEZONE:America/New_York
BEGIN:VEVENT
UID:104@sevashramsangha.org
DTSTART;TZID=America/New_York:20220301T183000
DTEND;TZID=America/New_York:20220301T200000
DTSTAMP:20220222T021558Z
URL:https://sevashramsangha.org/events/shiva-ratri-2022/
SUMMARY:Maha Shiva Ratri 2022
DESCRIPTION:&nbsp\;\n\n&nbsp\;\nMaha Shiva Ratri 3/1/22 (Tuesday) from 6:30
  - 8pm\n&nbsp\;\nBharat Sevashram Sangha New Jersey branch invites you to 
 celebrate Maha Shiva Ratri\non Tuesday 1st March 2022 from 6:30pm - 8pm.&n
 bsp\;\nProgram to include Bhajan\, Kirtan\, Puja\, Shiv Maha Abhishek\, Aa
 rti and prasad distribution.\nFor more details please contact below.\nSwam
 i Mukundananda\nOffice -732-422-8880\nCell - 331-302-2194
END:VEVENT
BEGIN:VTIMEZONE
TZID:America/New_York
X-LIC-LOCATION:America/New_York
BEGIN:STANDARD
DTSTART:20211107T010000
TZOFFSETFROM:-0400
TZOFFSETTO:-0500
TZNAME:EST
END:STANDARD
END:VTIMEZONE
END:VCALENDAR