BEGIN:VCALENDAR
VERSION:2.0
PRODID:-//wp-events-plugin.com//7.0.4//EN
TZID:America/New_York
X-WR-TIMEZONE:America/New_York
BEGIN:VEVENT
UID:164@sevashramsangha.org
DTSTART;TZID=America/New_York:20250710T180000
DTEND;TZID=America/New_York:20250710T200000
DTSTAMP:20250704T234330Z
URL:https://sevashramsangha.org/events/shri-shri-guru-purnima/
SUMMARY:SHRI SHRI GURU PURNIMA
DESCRIPTION:THURSDAY\, JULY 10\n6:00PM-8:00PM
END:VEVENT
BEGIN:VTIMEZONE
TZID:America/New_York
X-LIC-LOCATION:America/New_York
BEGIN:DAYLIGHT
DTSTART:20250309T030000
TZOFFSETFROM:-0500
TZOFFSETTO:-0400
TZNAME:EDT
END:DAYLIGHT
END:VTIMEZONE
END:VCALENDAR