BEGIN:VCALENDAR
VERSION:2.0
PRODID:-//wp-events-plugin.com//7.0.4//EN
TZID:America/New_York
X-WR-TIMEZONE:America/New_York
BEGIN:VEVENT
UID:136@sevashramsangha.org
DTSTART;TZID=America/New_York:20240224T100000
DTEND;TZID=America/New_York:20240224T130000
DTSTAMP:20240128T203217Z
URL:https://sevashramsangha.org/events/shri-shri-maghi-poornima-mahostsav/
SUMMARY:Shri Shri Maghi Poornima Mahostsav
DESCRIPTION:Saturday\, February 24th- Shri Shri Maghi Poornima Mahostsav (H
 oly Birthday of Acharya Swami Pranavananda ji Maharaj)\n10 am -1 pm
END:VEVENT
BEGIN:VTIMEZONE
TZID:America/New_York
X-LIC-LOCATION:America/New_York
BEGIN:STANDARD
DTSTART:20231105T010000
TZOFFSETFROM:-0400
TZOFFSETTO:-0500
TZNAME:EST
END:STANDARD
END:VTIMEZONE
END:VCALENDAR