BEGIN:VCALENDAR
VERSION:2.0
PRODID:-//wp-events-plugin.com//7.0.4//EN
TZID:America/New_York
X-WR-TIMEZONE:America/New_York
BEGIN:VEVENT
UID:61@sevashramsangha.org
DTSTART;TZID=America/New_York:20200831T183000
DTEND;TZID=America/New_York:20200905T210000
DTSTAMP:20200716T020653Z
URL:https://sevashramsangha.org/events/sreemat-bhagavad-mahapuran/
SUMMARY:Seven days discourse on Sreemat Bhagavad Mahapuran
DESCRIPTION:\n\n\n\nSeven days discourse on ‘Sreemat Bhagavad Mahapuran
 ’ or\n&nbsp\;&nbsp\;&nbsp\;&nbsp\;&nbsp\;&nbsp\;&nbsp\;&nbsp\;&nbsp\;&nb
 sp\;&nbsp\;&nbsp\;&nbsp\;&nbsp\;&nbsp\;&nbsp\;&nbsp\;&nbsp\;“Bhagavat Sa
 ptaha/Bhagavat katha\n&nbsp\;&nbsp\;&nbsp\;&nbsp\;&nbsp\;‘Sreemat Bhagav
 ad Mahapuran’ is one of the classic scriptures in the line of bhakti or 
 devotion\n&nbsp\;&nbsp\;&nbsp\;&nbsp\;&nbsp\;&nbsp\;&nbsp\;&nbsp\;&nbsp\;&
 nbsp\;&nbsp\;&nbsp\;&nbsp\;&nbsp\;&nbsp\;&nbsp\;&nbsp\;&nbsp\;&nbsp\;&nbsp
 \;&nbsp\;Officiating:&nbsp\;Pandit Rajen Balgovind\n&nbsp\;&nbsp\;&nbsp\;&
 nbsp\;&nbsp\;&nbsp\;&nbsp\;&nbsp\;&nbsp\;&nbsp\;&nbsp\;&nbsp\;&nbsp\;&nbsp
 \;&nbsp\;&nbsp\;&nbsp\;&nbsp\;&nbsp\;&nbsp\;&nbsp\;(discourse will be in E
 nglish language)\n&nbsp\;&nbsp\;&nbsp\;&nbsp\;&nbsp\;Celebration of the 23
 rd&nbsp\;annual Foundation day festivals of the New Jersey chapter of ‘B
 harat Sevashram Sangha’\n&nbsp\;&nbsp\;&nbsp\;&nbsp\;&nbsp\;&nbsp\;Date:
 &nbsp\;&nbsp\;August 31st\, Monday to September 6th\, Sunday\n&nbsp\;&nbsp
 \;&nbsp\;&nbsp\;&nbsp\;&nbsp\;Time: Monday to Saturday from 6.30p.m. to 9p
 .m.\n&nbsp\;&nbsp\;&nbsp\;&nbsp\;&nbsp\;&nbsp\;&nbsp\;&nbsp\;&nbsp\;&nbsp\
 ;&nbsp\;&nbsp\;&nbsp\;&nbsp\;&nbsp\;&nbsp\;&nbsp\;&nbsp\;&nbsp\;&nbsp\;&nb
 sp\;Sunday – from 10am to 12p.m\nNote: When you coming to the temple\, p
 lease put a mask\, covering your face. Also please maintain social distanc
 e.\nWe may not be able to serve you cooked prasadam\, instead\, we may giv
 e you fruits\, sweet etc.\nFor sponsor any of these puja\, please call Ash
 ram at 732 422 8880.\nSwami Amarnathananda\n\n\n\n\n
END:VEVENT
BEGIN:VTIMEZONE
TZID:America/New_York
X-LIC-LOCATION:America/New_York
BEGIN:DAYLIGHT
DTSTART:20200308T030000
TZOFFSETFROM:-0500
TZOFFSETTO:-0400
TZNAME:EDT
END:DAYLIGHT
END:VTIMEZONE
END:VCALENDAR