BEGIN:VCALENDAR
VERSION:2.0
PRODID:-//wp-events-plugin.com//7.0.4//EN
TZID:America/New_York
X-WR-TIMEZONE:America/New_York
BEGIN:VEVENT
UID:126@sevashramsangha.org
DTSTART;TZID=America/New_York:20230907T183000
DTEND;TZID=America/New_York:20230907T210000
DTSTAMP:20230611T232637Z
URL:https://sevashramsangha.org/events/sri-krishna-janamasthami/
SUMMARY:Sri Krishna Janamasthami
DESCRIPTION:Sri Krishna Janamasthami\nHoly birthday of Lord Sri Krishna.\nS
 eptember 7\, Thursday.\nAt 6.30 pm.\nSri Krishna Puja\, Arati\, puspanjali
  &nbsp\;and bhog.
END:VEVENT
BEGIN:VTIMEZONE
TZID:America/New_York
X-LIC-LOCATION:America/New_York
BEGIN:DAYLIGHT
DTSTART:20230312T030000
TZOFFSETFROM:-0500
TZOFFSETTO:-0400
TZNAME:EDT
END:DAYLIGHT
END:VTIMEZONE
END:VCALENDAR