BEGIN:VCALENDAR
VERSION:2.0
PRODID:-//wp-events-plugin.com//7.0.4//EN
TZID:America/New_York
X-WR-TIMEZONE:America/New_York
BEGIN:VEVENT
UID:59@sevashramsangha.org
DTSTART;TZID=America/New_York:20200812T183000
DTEND;TZID=America/New_York:20200812T210000
DTSTAMP:20200716T015945Z
URL:https://sevashramsangha.org/events/sri-krishna-janmashtami/
SUMMARY:Sri Krishna Janmashtami
DESCRIPTION:\n\n\n\nSri Krishna Janmashtami\n&nbsp\;&nbsp\;&nbsp\;&nbsp\;(H
 oly birthday of Lord Sri Krishna.)\n&nbsp\;&nbsp\;&nbsp\;&nbsp\;August 12t
 h\, Wednesday\n&nbsp\;&nbsp\;&nbsp\;&nbsp\;Time: Puja will start at 6.30 p
 .m\nNote: When you coming to the temple\, please put a mask\, covering you
 r face. Also please maintain social distance.\nWe may not be able to serve
  you cooked prasadam\, instead\, we may give you fruits\, sweet etc.\nFor 
 sponsor any of these puja\, please call Ashram at 732 422 8880.\nSwami Ama
 rnathananda\n\n\n\n\n
END:VEVENT
BEGIN:VTIMEZONE
TZID:America/New_York
X-LIC-LOCATION:America/New_York
BEGIN:DAYLIGHT
DTSTART:20200308T030000
TZOFFSETFROM:-0500
TZOFFSETTO:-0400
TZNAME:EDT
END:DAYLIGHT
END:VTIMEZONE
END:VCALENDAR