BEGIN:VCALENDAR
VERSION:2.0
PRODID:-//wp-events-plugin.com//7.0.4//EN
TZID:America/New_York
X-WR-TIMEZONE:America/New_York
BEGIN:VEVENT
UID:130@sevashramsangha.org
DTSTART;TZID=America/New_York:20231121T180000
DTEND;TZID=America/New_York:20231121T200000
DTSTAMP:20231028T011753Z
URL:https://sevashramsangha.org/events/sri-sri-jagaddhatri-puja/
SUMMARY:Sri Sri Jagaddhatri Puja
DESCRIPTION:Sri Sri Jagaddhatri Puja\n\nDate:  Tuesday\, November 21st\, 20
 23\nTime: 6:00PM - 8:00PM.
END:VEVENT
BEGIN:VTIMEZONE
TZID:America/New_York
X-LIC-LOCATION:America/New_York
BEGIN:STANDARD
DTSTART:20231105T010000
TZOFFSETFROM:-0400
TZOFFSETTO:-0500
TZNAME:EST
END:STANDARD
END:VTIMEZONE
END:VCALENDAR