BEGIN:VCALENDAR
VERSION:2.0
PRODID:-//wp-events-plugin.com//7.0.4//EN
TZID:America/New_York
X-WR-TIMEZONE:America/New_York
BEGIN:VEVENT
UID:131@sevashramsangha.org
DTSTART;TZID=America/New_York:20231127T180000
DTEND;TZID=America/New_York:20231127T200000
DTSTAMP:20231028T011835Z
URL:https://sevashramsangha.org/events/sri-sri-rash-purnima/
SUMMARY:Sri Sri Rash Purnima
DESCRIPTION:Sri Sri Rash Purnima\nDate:  Monday\, November 27th\, 2023\nTim
 e: 6:00PM - 8:00PM.\n
END:VEVENT
BEGIN:VTIMEZONE
TZID:America/New_York
X-LIC-LOCATION:America/New_York
BEGIN:STANDARD
DTSTART:20231105T010000
TZOFFSETFROM:-0400
TZOFFSETTO:-0500
TZNAME:EST
END:STANDARD
END:VTIMEZONE
END:VCALENDAR