BEGIN:VCALENDAR
VERSION:2.0
PRODID:-//wp-events-plugin.com//7.0.4//EN
TZID:America/New_York
X-WR-TIMEZONE:America/New_York
BEGIN:VEVENT
UID:115@sevashramsangha.org
DTSTART;TZID=America/New_York:20221119T183000
DTEND;TZID=America/New_York:20221119T200000
DTSTAMP:20221031T005143Z
URL:https://sevashramsangha.org/events/sri-sri-sani-puja-2022/
SUMMARY:SRI SRI SANI PUJA 2022
DESCRIPTION:\nSRI SRI SANI PUJA\nDate: Saturday\, 19th&nbsp\;November\, 202
 2\nTime:6:30 PM – 8.00 PM\nParking Information\nPlease park only at Ashr
 am parking lot.\nNote:\nPlease&nbsp\;DO NOT&nbsp\;park your car at&nbsp\;W
 ells Fargo Bank&nbsp\;parking lot and also at&nbsp\;Barret County Club Apa
 rtment&nbsp\;complex parking lot.\nFor all information\, please call Swami
  Amarnathananda at – 732 422 8880/ 347 735 2984 (cell)\n&nbsp\;\nSwami A
 marnathananda\n\n
END:VEVENT
BEGIN:VTIMEZONE
TZID:America/New_York
X-LIC-LOCATION:America/New_York
BEGIN:STANDARD
DTSTART:20221106T010000
TZOFFSETFROM:-0400
TZOFFSETTO:-0500
TZNAME:EST
END:STANDARD
END:VTIMEZONE
END:VCALENDAR